BEGIN:VCALENDAR
VERSION:2.0
PRODID:Provedor do Munícipe | Atendimento Descentralizado
X-WR-CALNAME:Provedor do Munícipe | Atendimento Descentralizado
X-WR-TIMEZONE:Europe/Lisbon
X-PUBLISHED-TTL:P1W
BEGIN:VTIMEZONE
TZID:Europe/Lisbon
X-LIC-LOCATION:Europe/Lisbon
END:VTIMEZONE
BEGIN:VEVENT
UID:69e7b055e42d0
DTSTART;VALUE=DATE:20221125
SEQUENCE:0
TRANSP:OPAQUE
DTEND;VALUE=DATE:20221126
SUMMARY:Provedor do Munícipe | Atendimento Descentralizado
CLASS:PUBLIC
DESCRIPTION:Informamos que o Provedor do Munícipe\, Rogério Correia\, est
 ará na Start-Up Cultural de Arruda\, localizada na antiga Escola Primári
 a da Quinta da Serra\, para atendimento ao público\, sem necessidade de m
 arcação.
X-MICROSOFT-CDO-ALLDAYEVENT:TRUE
DTSTAMP:20260421T171357Z
END:VEVENT
END:VCALENDAR