BEGIN:VCALENDAR
VERSION:2.0
PRODID:CMAV | Uma mão cheia de liberdade\, outra de solidariedade
X-WR-CALNAME:CMAV | Uma mão cheia de liberdade\, outra de solidariedade
X-WR-TIMEZONE:Europe/Lisbon
X-PUBLISHED-TTL:P1W
BEGIN:VTIMEZONE
TZID:Europe/Lisbon
X-LIC-LOCATION:Europe/Lisbon
END:VTIMEZONE
BEGIN:VEVENT
UID:69e7818d2c852
DTSTART;VALUE=DATE:20260425
SEQUENCE:0
TRANSP:OPAQUE
DTEND;VALUE=DATE:20260426
SUMMARY:CMAV | Uma mão cheia de liberdade\, outra de solidariedade
CLASS:PUBLIC
DESCRIPTION:Espetáculo de solidariedade a favor dos Bombeiros Voluntários
  de Arruda dos Vinhos???????? ???????? ????????????????????\, ????????????
 ???????? ????̀???? ????????????????????Clube Recreativo e Desportivo Arru
 denseRua João de DeusAnfiteatro Joel RodriguesArruda dos Vinhos alia a ce
 lebração da Liberdade à solidariedade. Depois do concelho ter sido asso
 lado pelas intempéries no início do ano\, e que afetaram muitas família
 s e infraestruturas\, a comunidade fez-se ouvir e quis participar na Recon
 strução de Arruda com uma ação cultural cujas verbas angariadas revert
 em a favor dos Bombeiros Voluntários de Arruda dos Vinhos.MúsicaDançaDe
 monstração dos cadetesArtesanatoCultura + pertoComes e bebese muito mais
 ...Toda uma comunidade unida para ajudar quem ajuda. Não falte!
X-MICROSOFT-CDO-ALLDAYEVENT:TRUE
DTSTAMP:20260421T135421Z
END:VEVENT
END:VCALENDAR