BEGIN:VCALENDAR
VERSION:2.0
PRODID:CRD A-do-Barriga | Torneio de Sueca
X-WR-CALNAME:CRD A-do-Barriga | Torneio de Sueca
X-WR-TIMEZONE:Europe/Lisbon
X-PUBLISHED-TTL:P1W
BEGIN:VTIMEZONE
TZID:Europe/Lisbon
X-LIC-LOCATION:Europe/Lisbon
END:VTIMEZONE
BEGIN:VEVENT
UID:69e7615057f2f
DTSTART;VALUE=DATE:20260425
SEQUENCE:0
TRANSP:OPAQUE
DTEND;VALUE=DATE:20260426
SUMMARY:CRD A-do-Barriga | Torneio de Sueca
CLASS:PUBLIC
DESCRIPTION:Tem confiança nas suas jogadas? Venha participar neste torneio
 \, organizado pelo clube de A-do-Barriga.
X-MICROSOFT-CDO-ALLDAYEVENT:TRUE
DTSTAMP:20260421T113648Z
END:VEVENT
END:VCALENDAR