BEGIN:VCALENDAR
VERSION:2.0
PRODID:Escuteiros | Back to the 80's
X-WR-CALNAME:Escuteiros | Back to the 80's
X-WR-TIMEZONE:Europe/Lisbon
X-PUBLISHED-TTL:P1W
BEGIN:VTIMEZONE
TZID:Europe/Lisbon
X-LIC-LOCATION:Europe/Lisbon
END:VTIMEZONE
BEGIN:VEVENT
UID:69e77a12771ce
DTSTART;VALUE=DATE:20260523
SEQUENCE:0
TRANSP:OPAQUE
DTEND;VALUE=DATE:20260524
SUMMARY:Escuteiros | Back to the 80's
CLASS:PUBLIC
DESCRIPTION:E que tal um&nbsp\;throwback aos anos 80\, no Pavilhão Mulitus
 os\, organizado pelo Agrupamento 78 - Escuteiros de Arruda?
X-MICROSOFT-CDO-ALLDAYEVENT:TRUE
DTSTAMP:20260421T132226Z
END:VEVENT
END:VCALENDAR