BEGIN:VCALENDAR
VERSION:2.0
PRODID:CRD A-do-Barriga | Grande Almoço de Cozido à Portuguesa
X-WR-CALNAME:CRD A-do-Barriga | Grande Almoço de Cozido à Portuguesa
X-WR-TIMEZONE:Europe/Lisbon
X-PUBLISHED-TTL:P1W
BEGIN:VTIMEZONE
TZID:Europe/Lisbon
X-LIC-LOCATION:Europe/Lisbon
END:VTIMEZONE
BEGIN:VEVENT
UID:69eaf953efa83
DTSTART;VALUE=DATE:20260314
SEQUENCE:0
TRANSP:OPAQUE
DTEND;VALUE=DATE:20260315
SUMMARY:CRD A-do-Barriga | Grande Almoço de Cozido à Portuguesa
CLASS:PUBLIC
DESCRIPTION:O Clube Recreativo e Desportivo de A-do-Barriga acolhe um grand
 e almoço do tradicional Cozido à Portuguesa\, numa tarde de convívio an
 imada pelo DJ Molas.Garanta a sua reserva atempada\, pelo 926 512 709.
X-MICROSOFT-CDO-ALLDAYEVENT:TRUE
DTSTAMP:20260424T050211Z
END:VEVENT
END:VCALENDAR