BEGIN:VCALENDAR
VERSION:2.0
PRODID:CMAV | Arruda a Compostar
X-WR-CALNAME:CMAV | Arruda a Compostar
X-WR-TIMEZONE:Europe/Lisbon
X-PUBLISHED-TTL:P1W
BEGIN:VTIMEZONE
TZID:Europe/Lisbon
X-LIC-LOCATION:Europe/Lisbon
END:VTIMEZONE
BEGIN:VEVENT
UID:69e78a609a6b5
DTSTART;VALUE=DATE:20260509
SEQUENCE:0
TRANSP:OPAQUE
DTEND;VALUE=DATE:20260510
SUMMARY:CMAV | Arruda a Compostar
CLASS:PUBLIC
DESCRIPTION:No próximo dia 9 de maio (sábado)\, o&nbsp\;Município de Arr
 uda dos Vinhos&nbsp\;realiza uma nova ação de formação sobre técnicas
  de compostagem\, uma forma de reutilização de recursos em prol do ambie
 nte.Esta iniciativa realiza-se pelas 15:00 horas\, na Start-Up Cultural de
  Arruda\, na antiga Escola Primária da Quinta da Serra\, com lotação li
 mitada.inscrições gratuitas mas obrigatórias em www.cm-arruda.pt
X-MICROSOFT-CDO-ALLDAYEVENT:TRUE
DTSTAMP:20260421T143200Z
END:VEVENT
END:VCALENDAR