BEGIN:VCALENDAR
VERSION:2.0
PRODID:Tertúlia do Capote | 1.ª Peregrinação a Pé a Fátima
X-WR-CALNAME:Tertúlia do Capote | 1.ª Peregrinação a Pé a Fátima
X-WR-TIMEZONE:Europe/Lisbon
X-PUBLISHED-TTL:P1W
BEGIN:VTIMEZONE
TZID:Europe/Lisbon
X-LIC-LOCATION:Europe/Lisbon
END:VTIMEZONE
BEGIN:VEVENT
UID:69e775d832cce
DTSTART;VALUE=DATE:20260509
SEQUENCE:0
TRANSP:OPAQUE
DTEND;VALUE=DATE:20260510
SUMMARY:Tertúlia do Capote | 1.ª Peregrinação a Pé a Fátima
CLASS:PUBLIC
DESCRIPTION:É com enorme orgulho que lançamos o desafio para a nossa prim
 eira grande jornada a pé até ao Santuário de Fátima. Serão 4 dias de 
 fé\, convívio\, superação e\, acima de tudo\, do espírito único da n
 ossa Tertúlia!DATAS: 9\, 10\, 11 e 12 de Maio de 2026&nbsp\;PERCURSO: Arr
 uda dos Vinhos → Azambuja → Santarém → Amiais de Baixo → FátimaC
 riámos duas modalidades de inscrição:OPÇÃO 1: PACOTE BASE&nbsp\;(Para
  quem prefere gerir as suas refeições durante o dia)Sócios: 80€ | Nã
 o Sócios: 100€Inclui:Alojamento (Pavilhões/Escolas com colchões/banho
 s)Carro de Apoio (transporte de mochilas\, águas\, kit primeiros socorros
 )SeguroJantar de Celebração em Fátima (dia 12)Autocarro de regresso a A
 rrudaOPÇÃO 2: PACOTE COMPLETO&nbsp\;(Para quem não se quer preocupar co
 m nada!)Sócios: 150€ | Não Sócios: 170€Inclui TUDO do pacote base +
  TODAS as refeições (Pequenos-almoços\, Almoços volantes e Jantares qu
 entes todos os dias).ATENÇÃO:Vagas Limitadas!Data Limite: Inscrições a
 té 25 de Abril&nbsp\;INSCREVE-TE AQUI:&nbsp\;https://docs.google.com/form
 s/d/e/1FAIpQLSe_thwZWnSIKZbjXeaeHHyMZ37GiDhtRt6DFWWXFEUOfPGjag/viewform?us
 p=publish-editorDúvidas? Falem com a Direção. Vamos levar a Tertúlia a
 té Fátima!
X-MICROSOFT-CDO-ALLDAYEVENT:TRUE
DTSTAMP:20260421T130424Z
END:VEVENT
END:VCALENDAR