BEGIN:VCALENDAR
VERSION:2.0
PRODID:CRDA | II Torneio de Ténis de Mesa - Não Federados
X-WR-CALNAME:CRDA | II Torneio de Ténis de Mesa - Não Federados
X-WR-TIMEZONE:Europe/Lisbon
X-PUBLISHED-TTL:P1W
BEGIN:VTIMEZONE
TZID:Europe/Lisbon
X-LIC-LOCATION:Europe/Lisbon
END:VTIMEZONE
BEGIN:VEVENT
UID:69e52b1d42d4b
DTSTART;VALUE=DATE:20260308
SEQUENCE:0
TRANSP:OPAQUE
DTEND;VALUE=DATE:20260309
SUMMARY:CRDA | II Torneio de Ténis de Mesa - Não Federados
CLASS:PUBLIC
DESCRIPTION:A formação do Ténis de Mesa do CRDA promove o II Torneio de 
 Ténis de Mesa\, especialmente dedicado a jogadores não federados\, desde
  alunos das escolas\, antigos praticantes\, até curiosos e amantes da mod
 alidade que queiram experimentar a competição num ambiente saudável e d
 escontraído.8 de marçoSede do CRDA09h30 às 17h00A prova será disputada
  em fase de grupos\, garantindo vários jogos a todos os participantes\, s
 eguindo-se o mapa final a eliminar.Prémios para os primeiros classificado
 sDiplomas de participaçãoMais do que uma competição\, será um dia de 
 convívio\, partilha e fair play\, aberto a todas as idades e níveis de e
 xperiência. Se já jogaste\, se jogas na escola ou se simplesmente tens c
 uriosidade em participar\, este torneio é para ti!Vagas limitadas. Inscre
 ve-te e vem fazer parte desta festa do ténis de mesa!Inscreve-te em:&nbsp
 \;https://eventostm.tecla8.com/crd-arrudense/ii-torneio-nao-federados-teni
 s-de-mesa-crda
X-MICROSOFT-CDO-ALLDAYEVENT:TRUE
DTSTAMP:20260419T192101Z
END:VEVENT
END:VCALENDAR