BEGIN:VCALENDAR
VERSION:2.0
PRODID:Festas Populares de Santo António
X-WR-CALNAME:Festas Populares de Santo António
X-WR-TIMEZONE:Europe/Lisbon
X-PUBLISHED-TTL:P1W
BEGIN:VTIMEZONE
TZID:Europe/Lisbon
X-LIC-LOCATION:Europe/Lisbon
END:VTIMEZONE
BEGIN:VEVENT
UID:69e8b3e24abd3
DTSTART;VALUE=DATE:20240607
SEQUENCE:0
TRANSP:OPAQUE
DTEND;VALUE=DATE:20240608
SUMMARY:Festas Populares de Santo António
CLASS:PUBLIC
DESCRIPTION:Estão de regresso as Festas Populares de Santo António\, para
  seis dias de grande animação para toda a família\, no Jardim Municipal
  de Arruda dos Vinhos.&nbsp\;Acompanhe todas as informações e agenda\, p
 ara não perder um momento das suas festas!:: PROGRAMA ::// SEXTA-FEIRA (0
 7.06)20H30 » Arraial com Cristais da Noite23H30 » DJ Maggie Rose// SÁBA
 DO (08.06)20H30 » Arraial com Chaparral Band23H30 » DJ Advorgado &amp\; 
 Friends// DOMINGO (09.06)09H30 » Caminhada de Santo António (partida do 
 palco da festa)Noite especial de aniversário da Tertúlia Gastronómica A
 rrudense20H30 » Noite de FadosAnabela CondeJosé CaetanoEduardo MatosCarl
 os BatalhaLuís Duarte (Becas)Maria Emília SobralFadista SurpresaRui Pedr
 o (guitarra portuguesa)Jacinto Carminho (viola de fado)00H00 » DJ Luís P
 inheiro// SEGUNDA(10.06)19H00 » Demonstração de ginástica pelo Oeste C
 lube de Ginástica20H30 » Arraial com Banda Top// TERÇA (11.06)19H30 » 
 DJ Kasaka// QUARTA (12.06)19H00 » Marchas Populares20H30 » Sardinhada &a
 mp\; Porco no Espeto21H00 » Arraial com Eu + EmpregadosTODOS OS DIAS: Tas
 quinhas pelas associações arrudenses e muita animação!
X-MICROSOFT-CDO-ALLDAYEVENT:TRUE
DTSTAMP:20260422T114122Z
END:VEVENT
END:VCALENDAR