BEGIN:VCALENDAR
VERSION:2.0
PRODID:Reunião da Junta de Freguesia
X-WR-CALNAME:Reunião da Junta de Freguesia
X-WR-TIMEZONE:Europe/Lisbon
X-PUBLISHED-TTL:P1W
BEGIN:VTIMEZONE
TZID:Europe/Lisbon
X-LIC-LOCATION:Europe/Lisbon
END:VTIMEZONE
BEGIN:VEVENT
UID:69ebde6a1e390
DTSTART;VALUE=DATE:20251203
SEQUENCE:0
TRANSP:OPAQUE
DTEND;VALUE=DATE:20251204
SUMMARY:Reunião da Junta de Freguesia
CLASS:PUBLIC
DESCRIPTION:Conforme o estipulado para o presente ano\, o Executivo da Junt
 a de Freguesia reúne publicamente no próximo dia 3 de dezembro\, pelas 2
 1:00 horas\, no Salão Nobre da Junta de Freguesia - Edifício-Sede\, obse
 rvando a seguinte Ordem do Dia:.: 1. Apresentação\, discussão e votaç
 ão da ata da reunião anterior\;.: 2. Apresentação\, sob proposta do Se
 nhor Presidente\, dos documentos previsionais para o ano de 2026 (Orçamen
 to da Freguesia - PPI - Mapa de Pessoal)\;.: 3. Proposta N.º 16/2025 (Pre
 sidente) - Datas das reuniões públicas da Junta de Freguesia para 2026\;
 .: 4. Proposta N.º 17/2025 (Presidente) - Proposta de abertura de procedi
 mento concursal para preenchimento da vaga no Mapa de Pessoal para a carre
 ira/categoria de Assistente Técnico\;.: 5. Assuntos de interesse para a f
 reguesia.Participe!Juntos fazemos Arruda viver.
X-MICROSOFT-CDO-ALLDAYEVENT:TRUE
DTSTAMP:20260424T211938Z
END:VEVENT
END:VCALENDAR