BEGIN:VCALENDAR
VERSION:2.0
PRODID:Reunião da Junta de Freguesia
X-WR-CALNAME:Reunião da Junta de Freguesia
X-WR-TIMEZONE:Europe/Lisbon
X-PUBLISHED-TTL:P1W
BEGIN:VTIMEZONE
TZID:Europe/Lisbon
X-LIC-LOCATION:Europe/Lisbon
END:VTIMEZONE
BEGIN:VEVENT
UID:69e4cfec9da60
DTSTART;VALUE=DATE:20250903
SEQUENCE:0
TRANSP:OPAQUE
DTEND;VALUE=DATE:20250904
SUMMARY:Reunião da Junta de Freguesia
CLASS:PUBLIC
DESCRIPTION:Conforme o estipulado para o presente ano\, o Executivo da Junt
 a de Freguesia reúne publicamente no próximo dia 3 de setembro\, pelas 2
 1:00 horas\, no Salão Nobre da Junta de Freguesia - Edifício-Sede\, obse
 rvando a seguinte Ordem do Dia:.: 1. Apresentação\, discussão e votaç
 ão da ata da reunião anterior\;.: 2. Apresentação\, discussão e vota
 ção da Proposta N.º 10/2025\, da iniciativa do Tesoureiro: Revisão ao 
 Orçamento da Freguesia 2025\;.: 3. Assuntos de interesse para a freguesia
 .Participe!Juntos fazemos Arruda viver.
X-MICROSOFT-CDO-ALLDAYEVENT:TRUE
DTSTAMP:20260419T125156Z
END:VEVENT
END:VCALENDAR