BEGIN:VCALENDAR
VERSION:2.0
PRODID:Reunião Pública da Junta de Freguesia
X-WR-CALNAME:Reunião Pública da Junta de Freguesia
X-WR-TIMEZONE:Europe/Lisbon
X-PUBLISHED-TTL:P1W
BEGIN:VTIMEZONE
TZID:Europe/Lisbon
X-LIC-LOCATION:Europe/Lisbon
END:VTIMEZONE
BEGIN:VEVENT
UID:69e4d06939d39
DTSTART;VALUE=DATE:20241002
SEQUENCE:0
TRANSP:OPAQUE
DTEND;VALUE=DATE:20241003
SUMMARY:Reunião Pública da Junta de Freguesia
CLASS:PUBLIC
DESCRIPTION:Reunião pública da Junta de Freguesia de Arruda dos Vinhos\, 
 com a presença do Presidente da Junta\, Secretária\, Tesoureiro e os doi
 s Vogais. O público pode usar da palavra para colocar questões ou aprese
 ntar sugestões/reclamações.LOCAL: Clube Recreativo e Desportivo de Á-d
 o-BarrigaHORA: 19:30
X-MICROSOFT-CDO-ALLDAYEVENT:TRUE
DTSTAMP:20260419T125401Z
END:VEVENT
END:VCALENDAR