BEGIN:VCALENDAR
VERSION:2.0
PRODID:Rancho Podas e Vindimas | Almoço de Favada
X-WR-CALNAME:Rancho Podas e Vindimas | Almoço de Favada
X-WR-TIMEZONE:Europe/Lisbon
X-PUBLISHED-TTL:P1W
BEGIN:VTIMEZONE
TZID:Europe/Lisbon
X-LIC-LOCATION:Europe/Lisbon
END:VTIMEZONE
BEGIN:VEVENT
UID:69e7626280192
DTSTART;VALUE=DATE:20260501
SEQUENCE:0
TRANSP:OPAQUE
DTEND;VALUE=DATE:20260502
SUMMARY:Rancho Podas e Vindimas | Almoço de Favada
CLASS:PUBLIC
DESCRIPTION:O Rancho Folclórico Podas e Vindimas realiza o seu tradicional
  almoço de favada\, no próximo dia 1 de maio. Inscreva-se no restaurante
  Temperos do Rancho.
X-MICROSOFT-CDO-ALLDAYEVENT:TRUE
DTSTAMP:20260421T114122Z
END:VEVENT
END:VCALENDAR